BEGIN:VCALENDAR
VERSION:2.0
PRODID:-//Plone.org//NONSGML plone.app.event//EN
X-WR-TIMEZONE:Europe/Vienna
BEGIN:VEVENT
SUMMARY:Eidgenössische Abstimmung vom 13. Februar 2022
DTSTART;VALUE=DATE:20220213
DTEND;VALUE=DATE:20220214
DTSTAMP;VALUE=DATE-TIME:20260419T144455Z
UID:67e645af0d2248b1b859b20243e42011@127.0.0.1:10110
CREATED;VALUE=DATE-TIME:20211125T125402Z
LAST-MODIFIED;VALUE=DATE-TIME:20211125T125243Z
URL:https://publisher-ai.webcloud7.ch/themen/staat-und-recht/abstimmungen-
 und-wahlen/abstimmungstermine/eidgenoessische-abstimmung-vom-13-februar-20
 22
END:VEVENT
END:VCALENDAR
