BEGIN:VCALENDAR
VERSION:2.0
PRODID:-//Plone.org//NONSGML plone.app.event//EN
X-WR-TIMEZONE:Europe/Vienna
BEGIN:VEVENT
SUMMARY:Eidgenössische Abstimmung vom 30. November 2025
DTSTART;VALUE=DATE:20251130
DTEND;VALUE=DATE:20251201
DTSTAMP;VALUE=DATE-TIME:20260419T180611Z
UID:6e93eefbbd164f3996eb03ae34feb3ea@127.0.0.1:10110
CREATED;VALUE=DATE-TIME:20230912T114601Z
LAST-MODIFIED;VALUE=DATE-TIME:20230912T114427Z
URL:https://publisher-ai.webcloud7.ch/themen/staat-und-recht/abstimmungen-
 und-wahlen/abstimmungstermine/eidgenoessische-abstimmung-vom-30-november-2
 025
END:VEVENT
END:VCALENDAR
